BEGIN:VCALENDAR
VERSION:2.0
PRODID:-//ChamberMaster//Event Calendar 2.0//EN
METHOD:PUBLISH
X-PUBLISHED-TTL:P3D
REFRESH-INTERVAL:P3D
CALSCALE:GREGORIAN
BEGIN:VEVENT
DTSTART:20260516T100000Z
DTEND:20260516T200000Z
X-MICROSOFT-CDO-ALLDAYEVENT:FALSE
SUMMARY:Alzheimer's Association: Ride to End ALZ
DESCRIPTION:The Alzheimer's Association Ride to End ALZ is a cycling event to directly impact the pace and momentum behind the fight to end Alzheimer's. Inspired by science and driven by a determination to end this disease\, participants in Ride to End ALZ raise funds and awareness to advance research toward the first survivor of Alzheimer's.\n\nFully supported\, on and off the bike\n\nRide to End ALZ is a fully supported event for a range of riders\, whether you're a novice cyclist\, weekend warrior or avid enthusiast. Choose a virtual event or an in-person event that challenges you to go to distance to fight Alzheimer's.\n\nYou're not in this challenge alone   each rider will receive support from the Ride to End ALZ staff and volunteer leadership committee. We are committed to providing fundraising and training support from registration to the day of Ride. Event day\, our dedicated volunteers and crew will push you toward the finish line! You can do this!\n\nRiders for the in-person events are required to make a registration donation to get started and agree to raise the fundraising minimum in order to participate. Volunteers are not required to fundraise.\n\nA ride to fuel research\n\nAs the world's largest nonprofit funder of Alzheimer's disease research\, the Alzheimer's Association is setting the pace of the field with innovation and investment   and you're setting the pace with each pedal stroke.\n\nRight now\, there is no shortage of ideas in Alzheimer's research   only dollars. But you can help change that. The funds you raise through Ride to End ALZ directly impact the Association's ability to accelerate science toward methods of treatment and prevention for Alzheimer's and other dementias.
X-ALT-DESC;FMTTYPE=text/html:<p>The Alzheimer&#39\;s Association Ride to End ALZ is a cycling event to directly impact the pace and momentum behind the fight to end Alzheimer&#39\;s. Inspired by science and driven by a determination to end this disease\, participants in Ride to End ALZ raise funds and awareness to advance research toward the first survivor of Alzheimer&#39\;s.</p>\n\n<h3>Fully supported\, on and off the bike</h3>\n\n<p>Ride to End ALZ is a fully supported event for a range of riders\, whether you&#39\;re a novice cyclist\, weekend warrior or avid enthusiast. Choose a virtual event or an in-person event that challenges you to go to distance to fight Alzheimer&#39\;s.</p>\n\n<p>You&#39\;re not in this challenge alone &mdash\; each rider will receive support from the Ride to End ALZ staff and volunteer leadership committee. We are committed to providing fundraising and training support from registration to the day of Ride. Event day\, our dedicated volunteers and crew will push you toward the finish line! You can do this!</p>\n\n<p>Riders for the in-person events are required to make a registration donation to get started and agree to raise the fundraising minimum in order to participate. Volunteers are not required to fundraise.</p>\n\n<h3>A ride to fuel research</h3>\n\n<p>As the world&#39\;s largest nonprofit funder of Alzheimer&#39\;s disease research\, the Alzheimer&#39\;s Association is setting the pace of the field with innovation and investment &mdash\; and you&#39\;re setting the pace with each pedal stroke.</p>\n\n<p>Right now\, there is no shortage of ideas in Alzheimer&#39\;s research &mdash\; only dollars. But you can help change that. The funds you raise through Ride to End ALZ directly impact the Association&#39\;s ability to accelerate science toward methods of treatment and prevention for Alzheimer&#39\;s and other dementias.</p>\n
LOCATION:Morven Park\, 17339 Southern Planter Ln\, Leesburg\, VA 20176
UID:e.9111.23743
SEQUENCE:3
DTSTAMP:20260423T124929Z
URL:https://viennabusiness.org/events/details/alzheimer-s-association-ride-to-end-alz-23743
END:VEVENT

END:VCALENDAR
