BEGIN:VCALENDAR
VERSION:2.0
PRODID:-//ChamberMaster//Event Calendar 2.0//EN
METHOD:PUBLISH
X-PUBLISHED-TTL:P3D
REFRESH-INTERVAL:P3D
CALSCALE:GREGORIAN
BEGIN:VEVENT
DTSTART:20260420T220000Z
DTEND:20260420T230000Z
X-MICROSOFT-CDO-ALLDAYEVENT:FALSE
SUMMARY:Empowering Career Transitions
DESCRIPTION:This informative session will tackle many of the issues when making a career transition whether changing roles\, re-entering the workforce\, early retirement or changing careers.\n\nParticipants will enhance their job search strategies through effective networking and mastering job search techniques.\n\nOther topics will include resume & cover letter development\, interview preparation as well as aligning your financial goals with a new path and maintaining a healthy cashflow during a period of change. Retirement plans   old and new   will be discussed.\n\nThe session will look at fostering resilience and adaptability to adapt to new work environments.\n\nAbout the Presenter\n\nMitra Gholam started Alira Consulting\, an executive and leadership consulting firm\, in February 2023 to help others reach their career and business goals and objectives. She is a licensed Executive and Leadership Coach by the Academy of Executive Coaching based in London\, UK and has a global certification through the European Mentoring and Coaching Council. Additionally\, she provides consulting services for individuals and companies looking to solve business problems.\n\nAdditional professional work experience has been in Human Resources\, Accounting\, Budget and Finance\, Business Management and Operations\, Change Management\, Strategy and Sales and Marketing.\n\nAll proceeds benefit The Women's Center and its programs.
X-ALT-DESC;FMTTYPE=text/html:<p>This informative session will tackle many of the issues when making a career transition whether changing roles\, re-entering the workforce\, early retirement or changing careers.</p>\n\n<p>Participants will enhance their job search strategies through effective networking and mastering job search techniques.</p>\n\n<p>Other topics will include resume &amp\; cover letter development\, interview preparation as well as aligning your financial goals with a new path and maintaining a healthy cashflow during a period of change. Retirement plans &ndash\; old and new &ndash\; will be discussed.</p>\n\n<p>The session will look at fostering resilience and adaptability to adapt to new work environments.</p>\n\n<p><em>About the Presenter</em></p>\n\n<p><strong><strong>Mitra Gholam</strong></strong> started Alira Consulting\, an executive and leadership consulting firm\, in February 2023 to help others reach their career and business goals and objectives. She is a licensed Executive and Leadership Coach by the Academy of Executive Coaching based in London\, UK and has a global certification through the European Mentoring and Coaching Council. Additionally\, she provides consulting services for individuals and companies looking to solve business problems.</p>\n\n<p>Additional professional work experience has been in Human Resources\, Accounting\, Budget and Finance\, Business Management and Operations\, Change Management\, Strategy and Sales and Marketing.</p>\n\n<p>All proceeds benefit The Women&#39\;s Center and its programs.</p>\n
LOCATION:The Women's Center 8230 Old Courthouse Rd 1st floor conference room Vienna\, VA 22182
UID:e.9111.23734
SEQUENCE:3
DTSTAMP:20260421T011052Z
URL:https://viennabusiness.org/events/details/empowering-career-transitions-04-20-2026-23734
END:VEVENT

END:VCALENDAR
