BEGIN:VCALENDAR
VERSION:2.0
PRODID:-//ChamberMaster//Event Calendar 2.0//EN
METHOD:PUBLISH
X-PUBLISHED-TTL:P3D
REFRESH-INTERVAL:P3D
CALSCALE:GREGORIAN
BEGIN:VEVENT
DTSTART:20260503T180000Z
DTEND:20260503T193000Z
X-MICROSOFT-CDO-ALLDAYEVENT:FALSE
SUMMARY:Made with Love: Mother's Day Cards with Seniors
DESCRIPTION:Bring the whole family and join our senior community for a Mother's Day card-making event. Kids\, parents\, and seniors will team up to design cards filled with love\, laughter\, and creativity. The cards will be distributed to residents of Sunrise Senior Living.\n\nLimited space is available.
X-ALT-DESC;FMTTYPE=text/html:<p>Bring the whole family and join our senior community for a Mother&rsquo\;s Day card-making event. Kids\, parents\, and seniors will team up to design cards filled with love\, laughter\, and creativity. The cards will be distributed to residents of Sunrise Senior Living.</p>\n\n<p>Limited space is available.</p>\n
LOCATION:Sunrise Senior Living\, 374 Maple Ave. W\, Vienna
UID:e.9111.23747
SEQUENCE:3
DTSTAMP:20260423T142431Z
URL:https://viennabusiness.org/events/details/made-with-love-mother-s-day-cards-with-seniors-23747
END:VEVENT

END:VCALENDAR
