BEGIN:VCALENDAR
VERSION:2.0
PRODID:-//ChamberMaster//Event Calendar 2.0//EN
METHOD:PUBLISH
X-PUBLISHED-TTL:P3D
REFRESH-INTERVAL:P3D
CALSCALE:GREGORIAN
BEGIN:VEVENT
DTSTART;VALUE=DATE:20260424
DTEND;VALUE=DATE:20260426
TRANSP:TRANSPARENT
X-MICROSOFT-CDO-ALLDAYEVENT:TRUE
SUMMARY:Melody Yazdani Studios: Motherhood: A Letter to My Child Exhibit & Fundraiser for The Women's Center
DESCRIPTION:Join us for A Letter to My Child Exhibit\, an evening that invites you to slow down\, reflect\, and experience the journey of motherhood through a deeply human and moving lens. Through intimate artistic expression and heartfelt reflection\, this exhibit offers space to consider the beauty\, complexity\, tenderness\, sacrifice\, and transformation woven into motherhood and the bonds that connect generations.\n\n \n\nCome be part of an experience that is both personal and communal   a chance to gather with others\, engage with meaningful work\, and reflect on the ways motherhood shapes families\, identity\, memory\, and love. Whether you are a mother\, were raised by one\, love one\, or simply want to connect with a story that touches every community\, this evening offers something profound and memorable.\n\n \n\nYour presence will also support an important cause. This event is a fundraiser for The Women's Center\, and all proceeds from ticket sales will be donated directly to support its work in the community. By attending\, you are not only stepping into a powerful cultural experience\, but also helping uplift women and families through your participation.\n\n \n\nWe invite you to join us for an evening of art\, reflection\, and purpose   to honor motherhood\, connect with community\, and give back in a meaningful way.\n\n\n\nLocation : 303 Mill St STE C\n\nVienna\, VA 22180\n\nTickets required: https://motherhood2026.melodyyazdani.com/
X-ALT-DESC;FMTTYPE=text/html:<p>Join us for <strong><em>A Letter to My Child Exhibit</em>\,</strong> an evening that invites you to slow down\, reflect\, and experience the journey of motherhood through a deeply human and moving lens. Through intimate artistic expression and heartfelt reflection\, this exhibit offers space to consider the beauty\, complexity\, tenderness\, sacrifice\, and transformation woven into motherhood and the bonds that connect generations.</p>\n\n<p>&nbsp\;</p>\n\n<p>Come be part of an experience that is both personal and communal &mdash\; a chance to gather with others\, engage with meaningful work\, and reflect on the ways motherhood shapes families\, identity\, memory\, and love. Whether you are a mother\, were raised by one\, love one\, or simply want to connect with a story that touches every community\, this evening offers something profound and memorable.</p>\n\n<p>&nbsp\;</p>\n\n<p>Your presence will also support an important cause. This event is a fundraiser for <strong>The Women&rsquo\;s Center</strong>\, and all proceeds from ticket sales will be donated directly to support its work in the community. By attending\, you are not only stepping into a powerful cultural experience\, but also helping uplift women and families through your participation.</p>\n\n<p>&nbsp\;</p>\n\n<p>We invite you to join us for an evening of art\, reflection\, and purpose &mdash\; to honor motherhood\, connect with community\, and give back in a meaningful way.<br />\n<br />\nLocation : 303 Mill St STE C<br />\nVienna\, VA 22180<br />\nTickets required:&nbsp\;https://motherhood2026.melodyyazdani.com/</p>\n
LOCATION:Melody Yazdani Studios 303 Mill St NE STE C Vienna\, VA 22180
UID:e.9111.23741
SEQUENCE:3
DTSTAMP:20260421T011037Z
URL:https://viennabusiness.org/events/details/melody-yazdani-studios-motherhood-a-letter-to-my-child-exhibit-fundraiser-for-the-women-s-center-23741
END:VEVENT

END:VCALENDAR
