BEGIN:VCALENDAR
VERSION:2.0
PRODID:-//ChamberMaster//Event Calendar 2.0//EN
METHOD:PUBLISH
X-PUBLISHED-TTL:P3D
REFRESH-INTERVAL:P3D
CALSCALE:GREGORIAN
BEGIN:VEVENT
DTSTART:20260421T170000Z
DTEND:20260421T180000Z
X-MICROSOFT-CDO-ALLDAYEVENT:FALSE
SUMMARY:NARFE Chapter 1116 (Vienna-Oakton) event
DESCRIPTION:NARFE Monthly Meeting - Guest speaker Vienna Councilman and Vienna 250 Co-chair Church Anderson who will share information about the activities planned in Vienna for America 250.\n\n\n\nFREE.  NARFE Members and guests are welcome.
X-ALT-DESC;FMTTYPE=text/html:NARFE Monthly Meeting - Guest speaker Vienna Councilman and Vienna 250 Co-chair Church Anderson who will share information about the activities planned in Vienna for America 250.<br />\n<br />\nFREE.&nbsp\; NARFE Members and guests are welcome.&nbsp\;&nbsp\;
LOCATION:Vienna Community Center\, 120 Cherry Street\, SE\, Vienna\, VA 22180
UID:e.9111.23740
SEQUENCE:3
DTSTAMP:20260421T011813Z
URL:https://viennabusiness.org/events/details/narfe-chapter-1116-vienna-oakton-event-23740
END:VEVENT

END:VCALENDAR
