BEGIN:VCALENDAR
VERSION:2.0
PRODID:-//ChamberMaster//Event Calendar 2.0//EN
METHOD:PUBLISH
X-PUBLISHED-TTL:P3D
REFRESH-INTERVAL:P3D
CALSCALE:GREGORIAN
BEGIN:VEVENT
DTSTART:20260425T140000Z
DTEND:20260425T160000Z
X-MICROSOFT-CDO-ALLDAYEVENT:FALSE
SUMMARY:SipSation Coffee Co. — Free Sampling Event at Trace The Zero Waste Store
DESCRIPTION:SipSation Coffee Co. is a small-batch\, roast-to-order coffee brand built around one idea: fresh-roasted coffee tastes better. Most bags on store shelves were roasted months ago. SipSation ships within days of roasting so what you smell in the bag shows up in the cup.\n\nOn April 25th from 10am to 12pm\, stop by Trace The Zero Waste Store in Vienna for a free sampling of Quiet Bali Retreat   SipSation's signature single-origin medium-dark roast with notes of baker's chocolate\, orange peel\, juniper\, and molasses. Founder Andrew will be there in person to pour samples and answer any questions about the coffee or the brand.\n\nPlanning on hitting Taste of Vienna later that morning? Start here first. It's a quieter way to ease into the day before the crowds arrive and a great cup of coffee doesn't hurt either.
X-ALT-DESC;FMTTYPE=text/html:<p>SipSation Coffee Co. is a small-batch\, roast-to-order coffee brand built around one idea: fresh-roasted coffee tastes better. Most bags on store shelves were roasted months ago. SipSation ships within days of roasting so what you smell in the bag shows up in the cup.</p>\n\n<p>On April 25th from 10am to 12pm\, stop by Trace The Zero Waste Store in Vienna for a free sampling of Quiet Bali Retreat &mdash\; SipSation&#39\;s signature single-origin medium-dark roast with notes of baker&#39\;s chocolate\, orange peel\, juniper\, and molasses. Founder Andrew will be there in person to pour samples and answer any questions about the coffee or the brand.</p>\n\n<p>Planning on hitting Taste of Vienna later that morning? Start here first. It&#39\;s a quieter way to ease into the day before the crowds arrive and a great cup of coffee doesn&#39\;t hurt either.</p>\n
LOCATION:Trace The Zero Waste Store
UID:e.9111.23751
SEQUENCE:3
DTSTAMP:20260424T202408Z
URL:https://viennabusiness.org/events/details/sipsation-coffee-co-free-sampling-event-at-trace-the-zero-waste-store-23751
END:VEVENT

END:VCALENDAR
