BEGIN:VCALENDAR
VERSION:2.0
PRODID:-//ChamberMaster//Event Calendar 2.0//EN
METHOD:PUBLISH
X-PUBLISHED-TTL:P3D
REFRESH-INTERVAL:P3D
CALSCALE:GREGORIAN
BEGIN:VEVENT
DTSTART:20260423T223000Z
DTEND:20260424T000000Z
X-MICROSOFT-CDO-ALLDAYEVENT:FALSE
SUMMARY:TWC: Do you need a Divorce Coach?
DESCRIPTION:Divorce requires clear thinking at a time when emotions are high and decisions feel relentless. A divorce coach helps you slow the chaos\, clarify your goals\, and approach the process with strategy instead of reactivity. In this workshop\, you'll learn how divorce coaching bridges the gap between legal\, financial\, and emotional support\; how it can help you prepare\, communicate effectively\, and make grounded decisions\; and why having the right support can change not just your divorce outcome\, but your future.\n\nWhether you're contemplating divorce\, newly separated\, or deep in a high-conflict process\, this workshop will give you practical insight\, clarity\, and a sense of steadiness - so you can move forward with confidence rather than crisis.\n\nBecome informed. Become empowered.\n\nAbout the Presenter\n\nRebecca Masri is a divorce coach and founder of Navigating Divorce\, LLC in Arlington\, Virginia. After 30 years as a divorce attorney\, she now helps clients approach divorce with clarity\, strategy\, and emotional steadiness. She works with individuals at every stage of the process   from contemplating separation to post-divorce conflict   helping them communicate more effectively\, prepare for mediation or court\, and make well-reasoned decisions grounded in their long-term goals. Rebecca earned her J.D. from the University of Richmond School of Law and her B.A. from William & Mary. She is a CDC Certified Divorce Coach and a certified High Conflict Divorce Coach.\n\nAll proceeds go towards The Women's Center and its programs.
X-ALT-DESC;FMTTYPE=text/html:<p>Divorce requires clear thinking at a time when emotions are high and decisions feel relentless. A divorce coach helps you slow the chaos\, clarify your goals\, and approach the process with strategy instead of reactivity. In this workshop\, you&rsquo\;ll learn how divorce coaching bridges the gap between legal\, financial\, and emotional support\; how it can help you prepare\, communicate effectively\, and make grounded decisions\; and why having the right support can change not just your divorce outcome\, but your future.</p>\n\n<p>Whether you&rsquo\;re contemplating divorce\, newly separated\, or deep in a high-conflict process\, this workshop will give you practical insight\, clarity\, and a sense of steadiness - so you can move forward with confidence rather than crisis.</p>\n\n<p>Become informed. Become empowered.</p>\n\n<p><em>About the Presenter</em></p>\n\n<p><strong><strong>Rebecca Masri</strong></strong>&nbsp\;is a divorce coach and founder of Navigating Divorce\, LLC in Arlington\, Virginia. After 30 years as a divorce attorney\, she now helps clients approach divorce with clarity\, strategy\, and emotional steadiness. She works with individuals at every stage of the process &mdash\; from contemplating separation to post-divorce conflict &mdash\; helping them communicate more effectively\, prepare for mediation or court\, and make well-reasoned decisions grounded in their long-term goals. Rebecca earned her J.D. from the University of Richmond School of Law and her B.A. from William &amp\; Mary. She is a CDC Certified Divorce Coach and a certified High Conflict Divorce Coach.</p>\n\n<p>All proceeds go towards The Women&#39\;s Center and its programs.</p>\n
LOCATION:The Women's Center 8230 Old Courthouse Rd 1st floor conference room Vienna\, VA 22182
UID:e.9111.23736
SEQUENCE:3
DTSTAMP:20260421T011616Z
URL:https://viennabusiness.org/events/details/twc-do-you-need-a-divorce-coach-23736
END:VEVENT

END:VCALENDAR
