BEGIN:VCALENDAR
VERSION:2.0
PRODID:-//ChamberMaster//Event Calendar 2.0//EN
METHOD:PUBLISH
X-PUBLISHED-TTL:P3D
REFRESH-INTERVAL:P3D
CALSCALE:GREGORIAN
BEGIN:VEVENT
DTSTART:20260427T223000Z
DTEND:20260428T003000Z
X-MICROSOFT-CDO-ALLDAYEVENT:FALSE
SUMMARY:TWC: Domestic Violence: What Is It and What Can You Do About It?
DESCRIPTION:Join us for an educational and empowering workshop designed to increase understanding of domestic violence and the many forms that family abuse can take. This session will explore the dynamics of coercive control\, including physical and sexual violence\, emotional intimidation\, verbal abuse\, and financial control. Participants will learn to recognize warning signs\, understand the barriers that often prevent victims from seeking help\, and become familiar with community resources and options for safety and support. The presentation will also include an overview of the Virginia protective order process\, from intake through trial.\n\nThe workshop will be facilitated by Bolivia S. Bustamante B.\, CA\, MSCJ (She\, Her\, Ella) Program Manager and Credentialed Victim Advocate\, Domestic Violence & Sexual Assault Services who brings extensive experience working with survivors and implementing trauma-informed\, culturally competent approaches to advocacy and intervention. All are welcome to attend and encouraged to bring questions.\n\nTogether\, we can strengthen awareness\, foster safety\, and support healing within our communities.\n\nBolivia S. Bustamante B.\, CA\, MSCJ\n\nPLEASE NOTE: T HIS EVENT IS ON ZOOM. LINK IS IN CONFIRMATION EMAIL.
X-ALT-DESC;FMTTYPE=text/html:<p>Join us for an educational and empowering workshop designed to increase understanding of domestic violence and the many forms that family abuse can take. This session will explore the dynamics of coercive control\, including physical and sexual violence\, emotional intimidation\, verbal abuse\, and financial control. Participants will learn to recognize warning signs\, understand the barriers that often prevent victims from seeking help\, and become familiar with community resources and options for safety and support. The presentation will also include an overview of the Virginia protective order process\, from intake through trial.</p>\n\n<p>The workshop will be facilitated by <strong><strong>Bolivia S. Bustamante B.\, CA\, MSCJ (She\, Her\, Ella)</strong></strong>&mdash\;<strong><strong>Program Manager and Credentialed Victim Advocate\, Domestic Violence &amp\; Sexual Assault Services</strong></strong>&mdash\;who brings extensive experience working with survivors and implementing trauma-informed\, culturally competent approaches to advocacy and intervention. All are welcome to attend and encouraged to bring questions.</p>\n\n<p><em>Together\, we can strengthen awareness\, foster safety\, and support healing within our communities.</em></p>\n\n<p><strong><strong>Bolivia S. Bustamante B.\, CA\, MSCJ</strong></strong></p>\n\n<p><strong><strong>PLEASE NOTE: T</strong></strong><strong><strong> </strong></strong><strong><strong>HIS EVENT IS ON ZOOM. LINK IS IN CONFIRMATION EMAIL.</strong></strong></p>\n
LOCATION:This session is online and the link is in the confirmation email.
UID:e.9111.23737
SEQUENCE:3
DTSTAMP:20260421T172957Z
URL:https://viennabusiness.org/events/details/twc-domestic-violence-what-is-it-and-what-can-you-do-about-it-23737
END:VEVENT

END:VCALENDAR
