BEGIN:VCALENDAR
VERSION:2.0
PRODID:-//ChamberMaster//Event Calendar 2.0//EN
METHOD:PUBLISH
X-PUBLISHED-TTL:P3D
REFRESH-INTERVAL:P3D
CALSCALE:GREGORIAN
BEGIN:VEVENT
DTSTART:20260429T160000Z
DTEND:20260429T170000Z
X-MICROSOFT-CDO-ALLDAYEVENT:FALSE
SUMMARY:TWC: Tap Into the Hidden Side of Success
DESCRIPTION:Have you hit a limit to your success in your business or personal life and no matter how hard you work\, how many trainings you attend\, you can't break beyond this "stuck point?" You are not alone and there are answers. If you really want to make change in your life\, and get different results\, you need to ignite change at the level where results are created in the first place   you need to change your THINKING!\n\nIf you are ready for your next level of success or impact and want to move from the same old story to creating new powerful results\, this presentation is for you. In this impactful presentation\, you will learn a proven Results Formula that you can use over and over again to build your goals and dreams\; the secret for creating a powerful blueprint for your life and business incorporating neuroscience techniques\; a key tool to effectively repattern limiting beliefs and reprogram feelings of fear\, doubt\, and worry and more.\n\nPLEASE NOTE: T HIS EVENT IS ON ZOOM. LINK IS IN CONFIRMATION EMAIL.\n\nAbout the Presenter\n\nTamara Wolfe is an Award-Winning International Life Mastery Coach\, Mindset and Results Expert\, Certified NeuroCoach and NeuroLeader\, International Speaker\, Trainer and CEO of Full Spectrum Living. She is also a co-author of a collaborative International best-selling book\, "Short\, Sweet & Sacred."\n\nTamara comes to her life coaching with a background as a mind/body psychotherapist\, an Award-Winning business leader and mentor in sales. For over 30 years\, she has been studying and teaching personal development and success principles to business leaders to help them achieve their goals and dreams\, accelerate their results\, and create richer\, fuller lives.\n\nShe is recognized in the 150 Impact Club with the Brave Thinking Institute having served over 150 clients and was selected as the 2024 Transformational Coach of the Year.\n\nTo Your Joy\, Vitality\, and Success!\n\nAll proceeds go towards The Women's Center and its programs.
X-ALT-DESC;FMTTYPE=text/html:<p>Have you hit a limit to your success in your business or personal life and no matter how hard you work\, how many trainings you attend\, you can&rsquo\;t break beyond this &ldquo\;stuck point?&rdquo\; You are not alone and there are answers. If you really want to make change in your life\, and get different results\, you need to ignite change at the level where results are created in the first place &ndash\; you need to change your THINKING!</p>\n\n<p>If you are ready for your next level of success or impact and want to move from the same old story to creating new powerful results\, this presentation is for you. In this impactful presentation\, you will learn a proven Results Formula that you can use over and over again to build your goals and dreams\; the secret for creating a powerful blueprint for your life and business incorporating neuroscience techniques\; a key tool to effectively repattern limiting beliefs and reprogram feelings of fear\, doubt\, and worry and more.</p>\n\n<p><strong><strong>PLEASE NOTE: T</strong></strong><strong><strong> </strong></strong><strong><strong>HIS EVENT IS ON ZOOM. LINK IS IN CONFIRMATION EMAIL.</strong></strong></p>\n\n<p><em>About the Presenter</em></p>\n\n<p><strong><strong>Tamara Wolfe</strong></strong> is an Award-Winning International Life Mastery Coach\, Mindset and Results Expert\, Certified NeuroCoach and NeuroLeader\, International Speaker\, Trainer and CEO of Full Spectrum Living. She is also a co-author of a collaborative International best-selling book\, &ldquo\;Short\, Sweet &amp\; Sacred.&rdquo\;</p>\n\n<p>Tamara comes to her life coaching with a background as a mind/body psychotherapist\, an Award-Winning business leader and mentor in sales. For over 30 years\, she has been studying and teaching personal development and success principles to business leaders to help them achieve their goals and dreams\, accelerate their results\, and create richer\, fuller lives.</p>\n\n<p>She is recognized in the 150 Impact Club with the Brave Thinking Institute having served over 150 clients and was selected as the 2024 Transformational Coach of the Year.</p>\n\n<p>To Your Joy\, Vitality\, and Success!</p>\n\n<p>All proceeds go towards The Women&#39\;s Center and its programs.</p>\n
LOCATION:PLEASE NOTE: T HIS EVENT IS ON ZOOM. LINK IS IN CONFIRMATION EMAIL.
UID:e.9111.23739
SEQUENCE:3
DTSTAMP:20260421T172145Z
URL:https://viennabusiness.org/events/details/twc-tap-into-the-hidden-side-of-success-23739
END:VEVENT

END:VCALENDAR
